BEGIN:VCALENDAR
VERSION:2.0
PRODID:-//Lier motorsportklubb | Motorcross | Enduro | ATV - ECPv6.15.20//NONSGML v1.0//EN
CALSCALE:GREGORIAN
METHOD:PUBLISH
X-WR-CALNAME:Lier motorsportklubb | Motorcross | Enduro | ATV
X-ORIGINAL-URL:https://liermsk.no
X-WR-CALDESC:Arrangement for Lier motorsportklubb | Motorcross | Enduro | ATV
REFRESH-INTERVAL;VALUE=DURATION:PT1H
X-Robots-Tag:noindex
X-PUBLISHED-TTL:PT1H
BEGIN:VTIMEZONE
TZID:Europe/Oslo
BEGIN:DAYLIGHT
TZOFFSETFROM:+0100
TZOFFSETTO:+0200
TZNAME:CEST
DTSTART:20250330T010000
END:DAYLIGHT
BEGIN:STANDARD
TZOFFSETFROM:+0200
TZOFFSETTO:+0100
TZNAME:CET
DTSTART:20251026T010000
END:STANDARD
BEGIN:DAYLIGHT
TZOFFSETFROM:+0100
TZOFFSETTO:+0200
TZNAME:CEST
DTSTART:20260329T010000
END:DAYLIGHT
BEGIN:STANDARD
TZOFFSETFROM:+0200
TZOFFSETTO:+0100
TZNAME:CET
DTSTART:20261025T010000
END:STANDARD
BEGIN:DAYLIGHT
TZOFFSETFROM:+0100
TZOFFSETTO:+0200
TZNAME:CEST
DTSTART:20270328T010000
END:DAYLIGHT
BEGIN:STANDARD
TZOFFSETFROM:+0200
TZOFFSETTO:+0100
TZNAME:CET
DTSTART:20271031T010000
END:STANDARD
END:VTIMEZONE
BEGIN:VEVENT
DTSTART;VALUE=DATE:20260303
DTEND;VALUE=DATE:20260304
DTSTAMP:20260422T110250
CREATED:20241004T092909Z
LAST-MODIFIED:20250209T224207Z
UID:15766-1772496000-1772582399@liermsk.no
SUMMARY:Espen
DESCRIPTION:
URL:https://liermsk.no/kalender/espen-71/
END:VEVENT
BEGIN:VEVENT
DTSTART;VALUE=DATE:20260310
DTEND;VALUE=DATE:20260311
DTSTAMP:20260422T110250
CREATED:20241004T092910Z
LAST-MODIFIED:20250209T224208Z
UID:15767-1773100800-1773187199@liermsk.no
SUMMARY:Espen
DESCRIPTION:
URL:https://liermsk.no/kalender/espen-72/
END:VEVENT
BEGIN:VEVENT
DTSTART;VALUE=DATE:20260317
DTEND;VALUE=DATE:20260318
DTSTAMP:20260422T110250
CREATED:20241004T092910Z
LAST-MODIFIED:20250209T224209Z
UID:15768-1773705600-1773791999@liermsk.no
SUMMARY:Espen
DESCRIPTION:
URL:https://liermsk.no/kalender/espen-73/
END:VEVENT
BEGIN:VEVENT
DTSTART;VALUE=DATE:20260324
DTEND;VALUE=DATE:20260325
DTSTAMP:20260422T110250
CREATED:20241004T092910Z
LAST-MODIFIED:20250209T224209Z
UID:15769-1774310400-1774396799@liermsk.no
SUMMARY:Espen
DESCRIPTION:
URL:https://liermsk.no/kalender/espen-74/
END:VEVENT
BEGIN:VEVENT
DTSTART;VALUE=DATE:20260331
DTEND;VALUE=DATE:20260401
DTSTAMP:20260422T110250
CREATED:20241004T092911Z
LAST-MODIFIED:20250209T224222Z
UID:15770-1774915200-1775001599@liermsk.no
SUMMARY:Espen
DESCRIPTION:
URL:https://liermsk.no/kalender/espen-75/
END:VEVENT
END:VCALENDAR