BEGIN:VCALENDAR
VERSION:2.0
PRODID:-//Lier motorsportklubb | Motorcross | Enduro | ATV - ECPv6.15.20//NONSGML v1.0//EN
CALSCALE:GREGORIAN
METHOD:PUBLISH
X-WR-CALNAME:Lier motorsportklubb | Motorcross | Enduro | ATV
X-ORIGINAL-URL:https://liermsk.no
X-WR-CALDESC:Arrangement for Lier motorsportklubb | Motorcross | Enduro | ATV
REFRESH-INTERVAL;VALUE=DURATION:PT1H
X-Robots-Tag:noindex
X-PUBLISHED-TTL:PT1H
BEGIN:VTIMEZONE
TZID:Europe/Oslo
BEGIN:DAYLIGHT
TZOFFSETFROM:+0100
TZOFFSETTO:+0200
TZNAME:CEST
DTSTART:20240331T010000
END:DAYLIGHT
BEGIN:STANDARD
TZOFFSETFROM:+0200
TZOFFSETTO:+0100
TZNAME:CET
DTSTART:20241027T010000
END:STANDARD
BEGIN:DAYLIGHT
TZOFFSETFROM:+0100
TZOFFSETTO:+0200
TZNAME:CEST
DTSTART:20250330T010000
END:DAYLIGHT
BEGIN:STANDARD
TZOFFSETFROM:+0200
TZOFFSETTO:+0100
TZNAME:CET
DTSTART:20251026T010000
END:STANDARD
BEGIN:DAYLIGHT
TZOFFSETFROM:+0100
TZOFFSETTO:+0200
TZNAME:CEST
DTSTART:20260329T010000
END:DAYLIGHT
BEGIN:STANDARD
TZOFFSETFROM:+0200
TZOFFSETTO:+0100
TZNAME:CET
DTSTART:20261025T010000
END:STANDARD
END:VTIMEZONE
BEGIN:VEVENT
DTSTART;VALUE=DATE:20250506
DTEND;VALUE=DATE:20250507
DTSTAMP:20260421T181928
CREATED:20241004T092847Z
LAST-MODIFIED:20250209T224055Z
UID:15712-1746489600-1746575999@liermsk.no
SUMMARY:Espen
DESCRIPTION:
URL:https://liermsk.no/kalender/espen-27/
END:VEVENT
BEGIN:VEVENT
DTSTART;VALUE=DATE:20250513
DTEND;VALUE=DATE:20250514
DTSTAMP:20260421T181928
CREATED:20241004T092847Z
LAST-MODIFIED:20250209T224055Z
UID:15713-1747094400-1747180799@liermsk.no
SUMMARY:Espen
DESCRIPTION:
URL:https://liermsk.no/kalender/espen-28/
END:VEVENT
BEGIN:VEVENT
DTSTART;VALUE=DATE:20250520
DTEND;VALUE=DATE:20250521
DTSTAMP:20260421T181928
CREATED:20241004T092848Z
LAST-MODIFIED:20250209T224056Z
UID:15714-1747699200-1747785599@liermsk.no
SUMMARY:Espen
DESCRIPTION:
URL:https://liermsk.no/kalender/espen-29/
END:VEVENT
BEGIN:VEVENT
DTSTART;VALUE=DATE:20250527
DTEND;VALUE=DATE:20250528
DTSTAMP:20260421T181928
CREATED:20241004T092848Z
LAST-MODIFIED:20250209T224057Z
UID:15715-1748304000-1748390399@liermsk.no
SUMMARY:Espen
DESCRIPTION:
URL:https://liermsk.no/kalender/espen-30/
END:VEVENT
END:VCALENDAR