BEGIN:VCALENDAR
VERSION:2.0
PRODID:-//Lier motorsportklubb | Motorcross | Enduro | ATV - ECPv6.15.20//NONSGML v1.0//EN
CALSCALE:GREGORIAN
METHOD:PUBLISH
X-WR-CALNAME:Lier motorsportklubb | Motorcross | Enduro | ATV
X-ORIGINAL-URL:https://liermsk.no
X-WR-CALDESC:Arrangement for Lier motorsportklubb | Motorcross | Enduro | ATV
REFRESH-INTERVAL;VALUE=DURATION:PT1H
X-Robots-Tag:noindex
X-PUBLISHED-TTL:PT1H
BEGIN:VTIMEZONE
TZID:Europe/Oslo
BEGIN:DAYLIGHT
TZOFFSETFROM:+0100
TZOFFSETTO:+0200
TZNAME:CEST
DTSTART:20220327T010000
END:DAYLIGHT
BEGIN:STANDARD
TZOFFSETFROM:+0200
TZOFFSETTO:+0100
TZNAME:CET
DTSTART:20221030T010000
END:STANDARD
BEGIN:DAYLIGHT
TZOFFSETFROM:+0100
TZOFFSETTO:+0200
TZNAME:CEST
DTSTART:20230326T010000
END:DAYLIGHT
BEGIN:STANDARD
TZOFFSETFROM:+0200
TZOFFSETTO:+0100
TZNAME:CET
DTSTART:20231029T010000
END:STANDARD
BEGIN:DAYLIGHT
TZOFFSETFROM:+0100
TZOFFSETTO:+0200
TZNAME:CEST
DTSTART:20240331T010000
END:DAYLIGHT
BEGIN:STANDARD
TZOFFSETFROM:+0200
TZOFFSETTO:+0100
TZNAME:CET
DTSTART:20241027T010000
END:STANDARD
END:VTIMEZONE
BEGIN:VEVENT
DTSTART;TZID=Europe/Oslo:20231108T080000
DTEND;TZID=Europe/Oslo:20231108T090000
DTSTAMP:20260421T201829
CREATED:20230911T090922Z
LAST-MODIFIED:20231108T073916Z
UID:5853-1699430400-1699434000@liermsk.no
SUMMARY:Utleid til Bilforhandler
DESCRIPTION:
URL:https://liermsk.no/kalender/utleid-til-bilforhandler/
END:VEVENT
BEGIN:VEVENT
DTSTART;TZID=Europe/Oslo:20231108T080000
DTEND;TZID=Europe/Oslo:20231108T090000
DTSTAMP:20260421T201829
CREATED:20230911T090923Z
LAST-MODIFIED:20230911T090923Z
UID:5855-1699430400-1699434000@liermsk.no
SUMMARY:Utleid til Bilforhandler
DESCRIPTION:
URL:https://liermsk.no/kalender/utleid-til-bilforhandler-2/
END:VEVENT
BEGIN:VEVENT
DTSTART;TZID=Europe/Oslo:20231121T080000
DTEND;TZID=Europe/Oslo:20231122T170000
DTSTAMP:20260421T201829
CREATED:20230911T113923Z
LAST-MODIFIED:20231122T153207Z
UID:5880-1700553600-1700672400@liermsk.no
SUMMARY:Utleid til bil arrangement
DESCRIPTION:
URL:https://liermsk.no/kalender/utleid-til-bil-arrangement/
END:VEVENT
END:VCALENDAR