BEGIN:VCALENDAR
VERSION:2.0
PRODID:-//Lier motorsportklubb | Motorcross | Enduro | ATV - ECPv6.15.20//NONSGML v1.0//EN
CALSCALE:GREGORIAN
METHOD:PUBLISH
X-ORIGINAL-URL:https://liermsk.no
X-WR-CALDESC:Arrangement for Lier motorsportklubb | Motorcross | Enduro | ATV
REFRESH-INTERVAL;VALUE=DURATION:PT1H
X-Robots-Tag:noindex
X-PUBLISHED-TTL:PT1H
BEGIN:VTIMEZONE
TZID:Europe/Oslo
BEGIN:DAYLIGHT
TZOFFSETFROM:+0100
TZOFFSETTO:+0200
TZNAME:CEST
DTSTART:20220327T010000
END:DAYLIGHT
BEGIN:STANDARD
TZOFFSETFROM:+0200
TZOFFSETTO:+0100
TZNAME:CET
DTSTART:20221030T010000
END:STANDARD
BEGIN:DAYLIGHT
TZOFFSETFROM:+0100
TZOFFSETTO:+0200
TZNAME:CEST
DTSTART:20230326T010000
END:DAYLIGHT
BEGIN:STANDARD
TZOFFSETFROM:+0200
TZOFFSETTO:+0100
TZNAME:CET
DTSTART:20231029T010000
END:STANDARD
BEGIN:DAYLIGHT
TZOFFSETFROM:+0100
TZOFFSETTO:+0200
TZNAME:CEST
DTSTART:20240331T010000
END:DAYLIGHT
BEGIN:STANDARD
TZOFFSETFROM:+0200
TZOFFSETTO:+0100
TZNAME:CET
DTSTART:20241027T010000
END:STANDARD
END:VTIMEZONE
BEGIN:VEVENT
DTSTART;TZID=Europe/Oslo:20230911T170000
DTEND;TZID=Europe/Oslo:20230911T200000
DTSTAMP:20260421T233735
CREATED:20230911T083456Z
LAST-MODIFIED:20230911T173923Z
UID:5845-1694451600-1694462400@liermsk.no
SUMMARY:Aktivitetsleder: Roy Tore Bjerkan
DESCRIPTION:Join with Google Meet: https://meet.google.com/oet-dcet-zqj\nLearn more about Meet at: https://support.google.com/a/users/answer/9282720
URL:https://liermsk.no/kalender/aktivitetsleder-roy-tore-bjerkan/
ORGANIZER;CN="2275df860a9ed3c14f9377db60460388245303e3da00c007f8623608ba533728@group.calendar.google.com":MAILTO:2275df860a9ed3c14f9377db60460388245303e3da00c007f8623608ba533728@group.calendar.google.com
END:VEVENT
BEGIN:VEVENT
DTSTART;TZID=Europe/Oslo:20230911T180000
DTEND;TZID=Europe/Oslo:20230911T200000
DTSTAMP:20260421T233735
CREATED:20230911T113922Z
LAST-MODIFIED:20230911T173923Z
UID:5867-1694455200-1694462400@liermsk.no
SUMMARY:Kioskvakt: Ole Bjørn Plassen
DESCRIPTION:Tlf: 46639433
URL:https://liermsk.no/kalender/kioskvakt-ole-bjorn-plassen/
END:VEVENT
BEGIN:VEVENT
DTSTART;TZID=Europe/Oslo:20230914T170000
DTEND;TZID=Europe/Oslo:20230914T200000
DTSTAMP:20260421T233735
CREATED:20230911T090922Z
LAST-MODIFIED:20230914T175403Z
UID:5849-1694710800-1694721600@liermsk.no
SUMMARY:Aktivitetsleder: Roy Tore Bjerkan
DESCRIPTION:
URL:https://liermsk.no/kalender/aktivitetsleder-roy-tore-bjerkan-2/
END:VEVENT
BEGIN:VEVENT
DTSTART;TZID=Europe/Oslo:20230914T170000
DTEND;TZID=Europe/Oslo:20230914T200000
DTSTAMP:20260421T233735
CREATED:20230911T090922Z
LAST-MODIFIED:20230911T090922Z
UID:5852-1694710800-1694721600@liermsk.no
SUMMARY:Aktivitetsleder: Roy Tore Bjerkan
DESCRIPTION:
URL:https://liermsk.no/kalender/aktivitetsleder-roy-tore-bjerkan-4/
END:VEVENT
BEGIN:VEVENT
DTSTART;TZID=Europe/Oslo:20230914T180000
DTEND;TZID=Europe/Oslo:20230914T200000
DTSTAMP:20260421T233735
CREATED:20230911T113922Z
LAST-MODIFIED:20230914T175403Z
UID:5870-1694714400-1694721600@liermsk.no
SUMMARY:Kioskvakt: Frode Ringen
DESCRIPTION:Tlf: 98229518
URL:https://liermsk.no/kalender/kioskvakt-frode-ringen-2/
END:VEVENT
BEGIN:VEVENT
DTSTART;TZID=Europe/Oslo:20230914T180000
DTEND;TZID=Europe/Oslo:20230914T200000
DTSTAMP:20260421T233735
CREATED:20230911T113922Z
LAST-MODIFIED:20230911T113922Z
UID:5869-1694714400-1694721600@liermsk.no
SUMMARY:Kioskvakt: Frode Ringen
DESCRIPTION:Tlf: 98229518
URL:https://liermsk.no/kalender/kioskvakt-frode-ringen/
END:VEVENT
BEGIN:VEVENT
DTSTART;TZID=Europe/Oslo:20230916T110000
DTEND;TZID=Europe/Oslo:20230916T150000
DTSTAMP:20260421T233735
CREATED:20230911T090922Z
LAST-MODIFIED:20230911T090922Z
UID:5854-1694862000-1694876400@liermsk.no
SUMMARY:Aktivitetsleder: Roy Tore Bjerkan
DESCRIPTION:
URL:https://liermsk.no/kalender/aktivitetsleder-roy-tore-bjerkan-5/
END:VEVENT
BEGIN:VEVENT
DTSTART;TZID=Europe/Oslo:20230916T110000
DTEND;TZID=Europe/Oslo:20230916T150000
DTSTAMP:20260421T233735
CREATED:20230911T090922Z
LAST-MODIFIED:20230916T125729Z
UID:5851-1694862000-1694876400@liermsk.no
SUMMARY:Aktivitetsleder: Roy Tore Bjerkan
DESCRIPTION:
URL:https://liermsk.no/kalender/aktivitetsleder-roy-tore-bjerkan-3/
END:VEVENT
BEGIN:VEVENT
DTSTART;TZID=Europe/Oslo:20230916T110000
DTEND;TZID=Europe/Oslo:20230916T150000
DTSTAMP:20260421T233735
CREATED:20230911T113922Z
LAST-MODIFIED:20230911T113922Z
UID:5872-1694862000-1694876400@liermsk.no
SUMMARY:Kioskvakt: Thomas Kastad
DESCRIPTION:Tlf: 41223545
URL:https://liermsk.no/kalender/kioskvakt-thomas-kastad-2/
END:VEVENT
BEGIN:VEVENT
DTSTART;TZID=Europe/Oslo:20230916T110000
DTEND;TZID=Europe/Oslo:20230916T150000
DTSTAMP:20260421T233735
CREATED:20230911T113922Z
LAST-MODIFIED:20230916T125729Z
UID:5871-1694862000-1694876400@liermsk.no
SUMMARY:Kioskvakt: Thomas Kastad
DESCRIPTION:Tlf: 41223545
URL:https://liermsk.no/kalender/kioskvakt-thomas-kastad/
END:VEVENT
BEGIN:VEVENT
DTSTART;TZID=Europe/Oslo:20230918T170000
DTEND;TZID=Europe/Oslo:20230918T200000
DTSTAMP:20260421T233735
CREATED:20230911T105838Z
LAST-MODIFIED:20230918T174632Z
UID:5862-1695056400-1695067200@liermsk.no
SUMMARY:Aktivitetsleder: Kjetil Borgersen
DESCRIPTION:
URL:https://liermsk.no/kalender/aktivitetsleder-kjetil-borgersen/
END:VEVENT
BEGIN:VEVENT
DTSTART;TZID=Europe/Oslo:20230921T170000
DTEND;TZID=Europe/Oslo:20230921T200000
DTSTAMP:20260421T233735
CREATED:20230911T105838Z
LAST-MODIFIED:20230921T175858Z
UID:5863-1695315600-1695326400@liermsk.no
SUMMARY:Aktivitetsleder: Kjetil Borgersen
DESCRIPTION:
URL:https://liermsk.no/kalender/aktivitetsleder-kjetil-borgersen-2/
END:VEVENT
BEGIN:VEVENT
DTSTART;TZID=Europe/Oslo:20230923T110000
DTEND;TZID=Europe/Oslo:20230923T150000
DTSTAMP:20260421T233735
CREATED:20230911T105838Z
LAST-MODIFIED:20230923T122548Z
UID:5864-1695466800-1695481200@liermsk.no
SUMMARY:Aktivitetsleder: Kjetil Borgersen
DESCRIPTION:
URL:https://liermsk.no/kalender/aktivitetsleder-kjetil-borgersen-3/
END:VEVENT
BEGIN:VEVENT
DTSTART;TZID=Europe/Oslo:20230925T170000
DTEND;TZID=Europe/Oslo:20230925T200000
DTSTAMP:20260421T233735
CREATED:20230911T113923Z
LAST-MODIFIED:20230911T113923Z
UID:5877-1695661200-1695672000@liermsk.no
SUMMARY:Aktivitetsleder: Tor Ivar Lindskov
DESCRIPTION:
URL:https://liermsk.no/kalender/aktivitetsleder-tor-ivar-lindskov-2/
END:VEVENT
BEGIN:VEVENT
DTSTART;TZID=Europe/Oslo:20230925T170000
DTEND;TZID=Europe/Oslo:20230925T200000
DTSTAMP:20260421T233735
CREATED:20230911T113923Z
LAST-MODIFIED:20230925T173857Z
UID:5876-1695661200-1695672000@liermsk.no
SUMMARY:Aktivitetsleder: Tor Ivar Lindskov
DESCRIPTION:
URL:https://liermsk.no/kalender/aktivitetsleder-tor-ivar-lindskov/
END:VEVENT
BEGIN:VEVENT
DTSTART;TZID=Europe/Oslo:20230928T170000
DTEND;TZID=Europe/Oslo:20230928T200000
DTSTAMP:20260421T233735
CREATED:20230911T113923Z
LAST-MODIFIED:20230928T173259Z
UID:5878-1695920400-1695931200@liermsk.no
SUMMARY:Aktivitetsleder: Tor Ivar Lindskov
DESCRIPTION:
URL:https://liermsk.no/kalender/aktivitetsleder-tor-ivar-lindskov-3/
END:VEVENT
BEGIN:VEVENT
DTSTART;TZID=Europe/Oslo:20230930T110000
DTEND;TZID=Europe/Oslo:20230930T150000
DTSTAMP:20260421T233735
CREATED:20230911T113923Z
LAST-MODIFIED:20230930T130117Z
UID:5879-1696071600-1696086000@liermsk.no
SUMMARY:Aktivitetsleder: Tor Ivar Lindskov
DESCRIPTION:
URL:https://liermsk.no/kalender/aktivitetsleder-tor-ivar-lindskov-4/
END:VEVENT
END:VCALENDAR