BEGIN:VCALENDAR
VERSION:2.0
PRODID:-//Lier motorsportklubb | Motorcross | Enduro | ATV - ECPv6.15.20//NONSGML v1.0//EN
CALSCALE:GREGORIAN
METHOD:PUBLISH
X-WR-CALNAME:Lier motorsportklubb | Motorcross | Enduro | ATV
X-ORIGINAL-URL:https://liermsk.no
X-WR-CALDESC:Arrangement for Lier motorsportklubb | Motorcross | Enduro | ATV
REFRESH-INTERVAL;VALUE=DURATION:PT1H
X-Robots-Tag:noindex
X-PUBLISHED-TTL:PT1H
BEGIN:VTIMEZONE
TZID:Europe/Oslo
BEGIN:DAYLIGHT
TZOFFSETFROM:+0100
TZOFFSETTO:+0200
TZNAME:CEST
DTSTART:20220327T010000
END:DAYLIGHT
BEGIN:STANDARD
TZOFFSETFROM:+0200
TZOFFSETTO:+0100
TZNAME:CET
DTSTART:20221030T010000
END:STANDARD
BEGIN:DAYLIGHT
TZOFFSETFROM:+0100
TZOFFSETTO:+0200
TZNAME:CEST
DTSTART:20230326T010000
END:DAYLIGHT
BEGIN:STANDARD
TZOFFSETFROM:+0200
TZOFFSETTO:+0100
TZNAME:CET
DTSTART:20231029T010000
END:STANDARD
BEGIN:DAYLIGHT
TZOFFSETFROM:+0100
TZOFFSETTO:+0200
TZNAME:CEST
DTSTART:20240331T010000
END:DAYLIGHT
BEGIN:STANDARD
TZOFFSETFROM:+0200
TZOFFSETTO:+0100
TZNAME:CET
DTSTART:20241027T010000
END:STANDARD
END:VTIMEZONE
BEGIN:VEVENT
DTSTART;TZID=Europe/Oslo:20230930T110000
DTEND;TZID=Europe/Oslo:20230930T150000
DTSTAMP:20260421T233407
CREATED:20230911T113923Z
LAST-MODIFIED:20230930T130117Z
UID:5879-1696071600-1696086000@liermsk.no
SUMMARY:Aktivitetsleder: Tor Ivar Lindskov
DESCRIPTION:
URL:https://liermsk.no/kalender/aktivitetsleder-tor-ivar-lindskov-4/
END:VEVENT
END:VCALENDAR